BEGIN:VCALENDAR
VERSION:2.0
PRODID:-//SWPPA - ECPv6.15.20//NONSGML v1.0//EN
CALSCALE:GREGORIAN
METHOD:PUBLISH
X-ORIGINAL-URL:https://www.swppa.org
X-WR-CALDESC:Events for SWPPA
REFRESH-INTERVAL;VALUE=DURATION:PT1H
X-Robots-Tag:noindex
X-PUBLISHED-TTL:PT1H
BEGIN:VTIMEZONE
TZID:America/New_York
BEGIN:DAYLIGHT
TZOFFSETFROM:-0500
TZOFFSETTO:-0400
TZNAME:EDT
DTSTART:20180311T070000
END:DAYLIGHT
BEGIN:STANDARD
TZOFFSETFROM:-0400
TZOFFSETTO:-0500
TZNAME:EST
DTSTART:20181104T060000
END:STANDARD
BEGIN:DAYLIGHT
TZOFFSETFROM:-0500
TZOFFSETTO:-0400
TZNAME:EDT
DTSTART:20190310T070000
END:DAYLIGHT
BEGIN:STANDARD
TZOFFSETFROM:-0400
TZOFFSETTO:-0500
TZNAME:EST
DTSTART:20191103T060000
END:STANDARD
BEGIN:DAYLIGHT
TZOFFSETFROM:-0500
TZOFFSETTO:-0400
TZNAME:EDT
DTSTART:20200308T070000
END:DAYLIGHT
BEGIN:STANDARD
TZOFFSETFROM:-0400
TZOFFSETTO:-0500
TZNAME:EST
DTSTART:20201101T060000
END:STANDARD
END:VTIMEZONE
BEGIN:VEVENT
DTSTART;TZID=America/New_York:20190725T070000
DTEND;TZID=America/New_York:20190725T100000
DTSTAMP:20260421T003725
CREATED:20190612T175520Z
LAST-MODIFIED:20190612T175520Z
UID:1844-1564038000-1564048800@www.swppa.org
SUMMARY:#CoffeeConnectPGH
DESCRIPTION:#CoffeeConnectPGH encourages neighbors of all ages to ditch their devices and connect with others in coffee shops. Join Age-Friendly Greater Pittsburgh and partners for a day of connection and conversation with people of all ages. \nQuestions? Contact Cassandra  Masters at cassandra.masters@unitedwayswpa.org or (412) 456-6802.
URL:https://www.swppa.org/our-event/coffeeconnectpgh/
LOCATION:Everyday Café\, 532 North Homewood Ave.\, Pittsburgh\, PA\, 15208\, United States
CATEGORIES:#CoffeeConnectPGH
END:VEVENT
END:VCALENDAR